BEGIN:VCALENDAR
VERSION:2.0
PRODID:-//Cottle Village - ECPv6.15.12.2//NONSGML v1.0//EN
CALSCALE:GREGORIAN
METHOD:PUBLISH
X-WR-CALNAME:Cottle Village
X-ORIGINAL-URL:https://cottlevillage.com
X-WR-CALDESC:Events for Cottle Village
REFRESH-INTERVAL;VALUE=DURATION:PT1H
X-Robots-Tag:noindex
X-PUBLISHED-TTL:PT1H
BEGIN:VTIMEZONE
TZID:America/Chicago
BEGIN:DAYLIGHT
TZOFFSETFROM:-0600
TZOFFSETTO:-0500
TZNAME:CDT
DTSTART:20240310T080000
END:DAYLIGHT
BEGIN:STANDARD
TZOFFSETFROM:-0500
TZOFFSETTO:-0600
TZNAME:CST
DTSTART:20241103T070000
END:STANDARD
BEGIN:DAYLIGHT
TZOFFSETFROM:-0600
TZOFFSETTO:-0500
TZNAME:CDT
DTSTART:20250309T080000
END:DAYLIGHT
BEGIN:STANDARD
TZOFFSETFROM:-0500
TZOFFSETTO:-0600
TZNAME:CST
DTSTART:20251102T070000
END:STANDARD
BEGIN:DAYLIGHT
TZOFFSETFROM:-0600
TZOFFSETTO:-0500
TZNAME:CDT
DTSTART:20260308T080000
END:DAYLIGHT
BEGIN:STANDARD
TZOFFSETFROM:-0500
TZOFFSETTO:-0600
TZNAME:CST
DTSTART:20261101T070000
END:STANDARD
BEGIN:DAYLIGHT
TZOFFSETFROM:-0600
TZOFFSETTO:-0500
TZNAME:CDT
DTSTART:20270314T080000
END:DAYLIGHT
BEGIN:STANDARD
TZOFFSETFROM:-0500
TZOFFSETTO:-0600
TZNAME:CST
DTSTART:20271107T070000
END:STANDARD
END:VTIMEZONE
BEGIN:VEVENT
DTSTART;TZID=America/Chicago:20260413T170000
DTEND;TZID=America/Chicago:20260413T200000
DTSTAMP:20260422T093442
CREATED:20260403T202223Z
LAST-MODIFIED:20260403T202223Z
UID:615-1776099600-1776110400@cottlevillage.com
SUMMARY:Andrew Weber
DESCRIPTION:
URL:https://cottlevillage.com/event/andrew-weber-2/
LOCATION:Cottlevillage\, 6470 State Rte N\, Cottleville\, MO\, 63304\, United States
CATEGORIES:The Field
ATTACH;FMTTYPE=image/webp:https://cottlevillage.com/wp-content/uploads/2026/04/Andrew-Weber-.webp
END:VEVENT
BEGIN:VEVENT
DTSTART;TZID=America/Chicago:20260412T130000
DTEND;TZID=America/Chicago:20260412T160000
DTSTAMP:20260422T093442
CREATED:20260403T201243Z
LAST-MODIFIED:20260403T201746Z
UID:611-1775998800-1776009600@cottlevillage.com
SUMMARY:Adam Glenn
DESCRIPTION:
URL:https://cottlevillage.com/event/adam-glenn/
LOCATION:Cottlevillage\, 6470 State Rte N\, Cottleville\, MO\, 63304\, United States
CATEGORIES:The Field
ATTACH;FMTTYPE=image/jpeg:https://cottlevillage.com/wp-content/uploads/2026/04/Adam-Glenn.jpg
END:VEVENT
BEGIN:VEVENT
DTSTART;TZID=America/Chicago:20260411T190000
DTEND;TZID=America/Chicago:20260411T220000
DTSTAMP:20260422T093442
CREATED:20260325T222400Z
LAST-MODIFIED:20260325T222400Z
UID:592-1775934000-1775944800@cottlevillage.com
SUMMARY:McLovin'
DESCRIPTION:
URL:https://cottlevillage.com/event/mclovin/
LOCATION:Cottlevillage\, 6470 State Rte N\, Cottleville\, MO\, 63304\, United States
CATEGORIES:The Field
ATTACH;FMTTYPE=image/png:https://cottlevillage.com/wp-content/uploads/2026/03/Mclovin.png
END:VEVENT
BEGIN:VEVENT
DTSTART;TZID=America/Chicago:20260410T190000
DTEND;TZID=America/Chicago:20260410T220000
DTSTAMP:20260422T093442
CREATED:20260325T222235Z
LAST-MODIFIED:20260403T201902Z
UID:591-1775847600-1775858400@cottlevillage.com
SUMMARY:Krista Lynn Meadow
DESCRIPTION:
URL:https://cottlevillage.com/event/krista-lynn-meadow-2/
LOCATION:Cottlevillage\, 6470 State Rte N\, Cottleville\, MO\, 63304\, United States
CATEGORIES:The Field
ATTACH;FMTTYPE=image/png:https://cottlevillage.com/wp-content/uploads/2026/03/Krista-Lynn-Meadow.png
END:VEVENT
BEGIN:VEVENT
DTSTART;TZID=America/Chicago:20260409T170000
DTEND;TZID=America/Chicago:20260409T200000
DTSTAMP:20260422T093442
CREATED:20260403T201015Z
LAST-MODIFIED:20260403T201718Z
UID:609-1775754000-1775764800@cottlevillage.com
SUMMARY:Rich Houke
DESCRIPTION:
URL:https://cottlevillage.com/event/rich-houke/
LOCATION:Cottlevillage\, 6470 State Rte N\, Cottleville\, MO\, 63304\, United States
CATEGORIES:The Field
ATTACH;FMTTYPE=image/jpeg:https://cottlevillage.com/wp-content/uploads/2026/04/Rich-Houke.jpg
END:VEVENT
BEGIN:VEVENT
DTSTART;TZID=America/Chicago:20260408T170000
DTEND;TZID=America/Chicago:20260408T200000
DTSTAMP:20260422T093442
CREATED:20260403T200606Z
LAST-MODIFIED:20260403T201651Z
UID:608-1775667600-1775678400@cottlevillage.com
SUMMARY:James Jones
DESCRIPTION:
URL:https://cottlevillage.com/event/james-jones-2/
LOCATION:Cottlevillage\, 6470 State Rte N\, Cottleville\, MO\, 63304\, United States
CATEGORIES:The Field
ATTACH;FMTTYPE=image/webp:https://cottlevillage.com/wp-content/uploads/2026/04/James-Jones.webp
END:VEVENT
BEGIN:VEVENT
DTSTART;TZID=America/Chicago:20260407T170000
DTEND;TZID=America/Chicago:20260407T200000
DTSTAMP:20260422T093442
CREATED:20260403T200345Z
LAST-MODIFIED:20260403T200345Z
UID:605-1775581200-1775592000@cottlevillage.com
SUMMARY:Matt Colin & Anthony Nanney
DESCRIPTION:
URL:https://cottlevillage.com/event/matt-colin-anthony-nanney/
LOCATION:Cottlevillage\, 6470 State Rte N\, Cottleville\, MO\, 63304\, United States
END:VEVENT
BEGIN:VEVENT
DTSTART;TZID=America/Chicago:20260406T170000
DTEND;TZID=America/Chicago:20260406T200000
DTSTAMP:20260422T093442
CREATED:20260403T200154Z
LAST-MODIFIED:20260403T201625Z
UID:603-1775494800-1775505600@cottlevillage.com
SUMMARY:Andrew Weber
DESCRIPTION:
URL:https://cottlevillage.com/event/andrew-weber/
LOCATION:Cottlevillage\, 6470 State Rte N\, Cottleville\, MO\, 63304\, United States
CATEGORIES:The Field
ATTACH;FMTTYPE=image/webp:https://cottlevillage.com/wp-content/uploads/2026/04/Andrew-Weber-.webp
END:VEVENT
BEGIN:VEVENT
DTSTART;TZID=America/Chicago:20260405T140000
DTEND;TZID=America/Chicago:20260405T170000
DTSTAMP:20260422T093442
CREATED:20260403T195912Z
LAST-MODIFIED:20260403T201604Z
UID:602-1775397600-1775408400@cottlevillage.com
SUMMARY:James Jones
DESCRIPTION:
URL:https://cottlevillage.com/event/james-jones/
LOCATION:Cottlevillage\, 6470 State Rte N\, Cottleville\, MO\, 63304\, United States
CATEGORIES:The Field
ATTACH;FMTTYPE=image/webp:https://cottlevillage.com/wp-content/uploads/2026/04/James-Jones.webp
END:VEVENT
BEGIN:VEVENT
DTSTART;TZID=America/Chicago:20260404T150000
DTEND;TZID=America/Chicago:20260404T180000
DTSTAMP:20260422T093442
CREATED:20260325T221611Z
LAST-MODIFIED:20260403T174813Z
UID:589-1775314800-1775325600@cottlevillage.com
SUMMARY:Ms. Understood
DESCRIPTION:
URL:https://cottlevillage.com/event/ms-understood/
LOCATION:Cottlevillage\, 6470 State Rte N\, Cottleville\, MO\, 63304\, United States
CATEGORIES:The Field
ATTACH;FMTTYPE=image/jpeg:https://cottlevillage.com/wp-content/uploads/2026/03/Ms.-Understood.jpg
END:VEVENT
BEGIN:VEVENT
DTSTART;TZID=America/Chicago:20260403T180000
DTEND;TZID=America/Chicago:20260403T210000
DTSTAMP:20260422T093442
CREATED:20260325T221453Z
LAST-MODIFIED:20260403T174841Z
UID:588-1775239200-1775250000@cottlevillage.com
SUMMARY:Alex Rich Band
DESCRIPTION:
URL:https://cottlevillage.com/event/alex-rich-band-2/
LOCATION:Cottlevillage\, 6470 State Rte N\, Cottleville\, MO\, 63304\, United States
CATEGORIES:The Field
ATTACH;FMTTYPE=image/heic:https://cottlevillage.com/wp-content/uploads/2025/08/IMG_2009-scaled.jpg
END:VEVENT
BEGIN:VEVENT
DTSTART;TZID=America/Chicago:20260318T190000
DTEND;TZID=America/Chicago:20260318T210000
DTSTAMP:20260422T093442
CREATED:20260213T190626Z
LAST-MODIFIED:20260213T190626Z
UID:573-1773860400-1773867600@cottlevillage.com
SUMMARY:Cottle Village Trivia Night
DESCRIPTION:Join us every other Wednesday night at 7pm in the Distillery for bar trivia hosted by Questionable Pursuits! \nPrizes awarded for each round and a Grand Prize for overall winner.
URL:https://cottlevillage.com/event/cottle-village-trivia-night-3/
LOCATION:Cottlevillage\, 6470 State Rte N\, Cottleville\, MO\, 63304\, United States
CATEGORIES:The Distillery
ATTACH;FMTTYPE=image/png:https://cottlevillage.com/wp-content/uploads/2026/02/triia-night-logo.png
END:VEVENT
BEGIN:VEVENT
DTSTART;TZID=America/Chicago:20260314T160000
DTEND;TZID=America/Chicago:20260314T193000
DTSTAMP:20260422T093442
CREATED:20260225T221721Z
LAST-MODIFIED:20260225T221721Z
UID:581-1773504000-1773516600@cottlevillage.com
SUMMARY:Presley Aaron Band @ Cottle Village Irish Fest
DESCRIPTION:
URL:https://cottlevillage.com/event/presley-aaron-band-cottle-village-irish-fest/
LOCATION:Cottlevillage\, 6470 State Rte N\, Cottleville\, MO\, 63304\, United States
CATEGORIES:The Field
ATTACH;FMTTYPE=image/jpeg:https://cottlevillage.com/wp-content/uploads/2025/08/Presley-Aaron.jpg
END:VEVENT
BEGIN:VEVENT
DTSTART;TZID=America/Chicago:20260314T140000
DTEND;TZID=America/Chicago:20260314T160000
DTSTAMP:20260422T093442
CREATED:20260225T222057Z
LAST-MODIFIED:20260225T222057Z
UID:582-1773496800-1773504000@cottlevillage.com
SUMMARY:DJ Greasy @ Cottle Village Irish Fest
DESCRIPTION:
URL:https://cottlevillage.com/event/dj-greasy-cottle-village-irish-fest/
LOCATION:Cottlevillage\, 6470 State Rte N\, Cottleville\, MO\, 63304\, United States
CATEGORIES:The Field
ATTACH;FMTTYPE=image/png:https://cottlevillage.com/wp-content/uploads/2026/02/BlackAndRed-scaled.png
END:VEVENT
BEGIN:VEVENT
DTSTART;TZID=America/Chicago:20260314T110000
DTEND;TZID=America/Chicago:20260314T200000
DTSTAMP:20260422T093442
CREATED:20260213T200448Z
LAST-MODIFIED:20260213T200448Z
UID:576-1773486000-1773518400@cottlevillage.com
SUMMARY:Cottle Village Irish Fest - Tavern VIP
DESCRIPTION:Cottle Village Irish Fest – Tavern VIP Includes: \n\nTwo (2) drink tickets (Domestic beer or Seltzer)\nAccess to entire property and VIP only access to the Tavern\nVIP bar\, restrooms and buffet access in Tavern (Buffet open 11am – 7pm)\nSeating available in Tavern and patio.\nLive bands and DJ performing 11am – 7:30pm\n\nThe Heydays (11am – 2pm)\nDJ Greasy (2pm – 4pm)\nPresley Aaron Band (4pm – 7:30pm)\n\n\nVIP Buffet: Tavern\n\nShepherd’s Pie\nCorned beef\nVeggies/potatoes/cabbage\nRolls\nReuben Station\nBangers & Mash (sausage)\nMash\nBaked Beans\nTomato Bisque\nMac n Cheese Bites\nClementine Salad\nPea Salad
URL:https://cottlevillage.com/event/cottle-village-irish-fest-tavern-vip/
LOCATION:MO
CATEGORIES:The Tavern
ATTACH;FMTTYPE=image/png:https://cottlevillage.com/wp-content/uploads/2026/02/TAVERN-VIP.png
END:VEVENT
BEGIN:VEVENT
DTSTART;TZID=America/Chicago:20260314T110000
DTEND;TZID=America/Chicago:20260314T200000
DTSTAMP:20260422T093442
CREATED:20260213T192907Z
LAST-MODIFIED:20260213T192907Z
UID:574-1773486000-1773518400@cottlevillage.com
SUMMARY:Cottle Village Irish Fest - General Admission
DESCRIPTION:Cottle Village Irish Fest – General Admission Includes: \n\nAccess to: Distillery & Field Six (6) bars (VIP only access to the Tavern)\nLive bands and DJ performing 11am – 7:30pm\n\nThe Heydays (11am – 2pm)\nDJ Greasy (2pm – 4pm)\nPresley Aaron Band (4pm – 7:30pm)\n\n\nFood Options:\n\nTiny Tavern:\n\nPretzel Sticks (3 pcs) w/beer cheese\nHotdog\nBurger/Cheeseburger\nBeer Brats\n\n\nJQ BBQ:\n\nReuben Sandwich w/Chips\nIrish Stew\nHouse Made Chips\n\n\nTaco Tavern:\n\nTacos (Chicken\, Steak or Pork)\nNachos (Chicken\, Steak or Pork)\nChips & Salsa\nChips & Guac
URL:https://cottlevillage.com/event/cottle-village-irish-fest-general-admission/
LOCATION:Cottlevillage\, 6470 State Rte N\, Cottleville\, MO\, 63304\, United States
CATEGORIES:The Distillery,The Field
ATTACH;FMTTYPE=image/png:https://cottlevillage.com/wp-content/uploads/2026/02/GENERAL-ADMISSION.png
END:VEVENT
BEGIN:VEVENT
DTSTART;TZID=America/Chicago:20260314T110000
DTEND;TZID=America/Chicago:20260314T140000
DTSTAMP:20260422T093442
CREATED:20260225T221617Z
LAST-MODIFIED:20260225T221617Z
UID:580-1773486000-1773496800@cottlevillage.com
SUMMARY:The Heydays @ Cottle Village Irish Fest
DESCRIPTION:
URL:https://cottlevillage.com/event/the-heydays-cottle-village-irish-fest/
LOCATION:Cottlevillage\, 6470 State Rte N\, Cottleville\, MO\, 63304\, United States
CATEGORIES:The Field
ATTACH;FMTTYPE=image/jpeg:https://cottlevillage.com/wp-content/uploads/2025/10/Hey-Days-.jpg
END:VEVENT
BEGIN:VEVENT
DTSTART;TZID=America/Chicago:20260304T190000
DTEND;TZID=America/Chicago:20260304T210000
DTSTAMP:20260422T093442
CREATED:20260213T190520Z
LAST-MODIFIED:20260213T190520Z
UID:572-1772650800-1772658000@cottlevillage.com
SUMMARY:Cottle Village Trivia Night
DESCRIPTION:Join us every other Wednesday night at 7pm in the Distillery for bar trivia hosted by Questionable Pursuits! \nPrizes awarded for each round and a Grand Prize for overall winner.
URL:https://cottlevillage.com/event/cottle-village-trivia-night-2/
LOCATION:Cottlevillage\, 6470 State Rte N\, Cottleville\, MO\, 63304\, United States
CATEGORIES:The Distillery
ATTACH;FMTTYPE=image/png:https://cottlevillage.com/wp-content/uploads/2026/02/triia-night-logo.png
END:VEVENT
BEGIN:VEVENT
DTSTART;TZID=America/Chicago:20260218T190000
DTEND;TZID=America/Chicago:20260218T210000
DTSTAMP:20260422T093442
CREATED:20260213T190227Z
LAST-MODIFIED:20260213T190227Z
UID:570-1771441200-1771448400@cottlevillage.com
SUMMARY:Cottle Village Trivia Night
DESCRIPTION:Join us every other Wednesday night at 7pm in the Distillery for bar trivia hosted by Questionable Pursuits! \nPrizes awarded for each round and a Grand Prize for overall winner.
URL:https://cottlevillage.com/event/cottle-village-trivia-night/
LOCATION:Cottlevillage\, 6470 State Rte N\, Cottleville\, MO\, 63304\, United States
CATEGORIES:The Distillery
ATTACH;FMTTYPE=image/png:https://cottlevillage.com/wp-content/uploads/2026/02/triia-night-logo.png
END:VEVENT
BEGIN:VEVENT
DTSTART;TZID=America/Chicago:20260214T150000
DTEND;TZID=America/Chicago:20260214T210000
DTSTAMP:20260422T093442
CREATED:20260114T030259Z
LAST-MODIFIED:20260114T030259Z
UID:563-1771081200-1771102800@cottlevillage.com
SUMMARY:Valentine's Day Dinner at The Tavern
DESCRIPTION:VALENTINE’S DAY AT THE TAVERN!!This Valentine’s Day\, let us set the table! Enjoy our dinner menu\, with an option of our Chef’s Curated Menu\, as well as a handful of special off-menu features! Reservations are live\, there is no reservation fee.
URL:https://cottlevillage.com/event/valentines-day-dinner-at-the-tavern/
LOCATION:Cottlevillage\, 6470 State Rte N\, Cottleville\, MO\, 63304\, United States
CATEGORIES:The Tavern
ATTACH;FMTTYPE=image/jpeg:https://cottlevillage.com/wp-content/uploads/2026/01/Valentines.jpg
END:VEVENT
BEGIN:VEVENT
DTSTART;TZID=America/Chicago:20260208T120000
DTEND;TZID=America/Chicago:20260208T150000
DTSTAMP:20260422T093442
CREATED:20260114T025852Z
LAST-MODIFIED:20260114T025852Z
UID:562-1770552000-1770562800@cottlevillage.com
SUMMARY:Galentine's Mixology Class
DESCRIPTION:Learn how to make 3 FUN cocktails alongside your friends! \nYOUR TICKET INCLUDES: \n– Brunch Buffet\n– Three Full-Size Craft Cocktails\n– Take-Home Mixology Recipe Book\n– Swag Bag \nSunday\, February 8th\n12:00pm – 3:00pm
URL:https://cottlevillage.com/event/galentines-mixology-class-2/
LOCATION:Cottlevillage\, 6470 State Rte N\, Cottleville\, MO\, 63304\, United States
CATEGORIES:The Tavern
ATTACH;FMTTYPE=image/png:https://cottlevillage.com/wp-content/uploads/2026/01/OFFICIAL.png
END:VEVENT
BEGIN:VEVENT
DTSTART;TZID=America/Chicago:20260201T120000
DTEND;TZID=America/Chicago:20260201T150000
DTSTAMP:20260422T093442
CREATED:20260114T025712Z
LAST-MODIFIED:20260114T025712Z
UID:559-1769947200-1769958000@cottlevillage.com
SUMMARY:Galentine's Mixology Class
DESCRIPTION:Learn how to make 3 FUN cocktails alongside your friends! \nYOUR TICKET INCLUDES: \n– Brunch Buffet\n– Three Full-Size Craft Cocktails\n– Take-Home Mixology Recipe Book\n– Swag Bag \nSunday\, February 1st \n12:00pm – 3:00pm
URL:https://cottlevillage.com/event/galentines-mixology-class/
LOCATION:Cottlevillage\, 6470 State Rte N\, Cottleville\, MO\, 63304\, United States
CATEGORIES:The Tavern
ATTACH;FMTTYPE=image/jpeg:https://cottlevillage.com/wp-content/uploads/2026/01/IMG_4232.jpg
END:VEVENT
BEGIN:VEVENT
DTSTART;TZID=America/Chicago:20251129T170000
DTEND;TZID=America/Chicago:20251129T210000
DTSTAMP:20260422T093442
CREATED:20251031T004357Z
LAST-MODIFIED:20251031T004417Z
UID:548-1764435600-1764450000@cottlevillage.com
SUMMARY:Presley Aaron Band
DESCRIPTION:
URL:https://cottlevillage.com/event/presley-aaron-band-3/
LOCATION:Cottlevillage\, 6470 State Rte N\, Cottleville\, MO\, 63304\, United States
CATEGORIES:The Field
ATTACH;FMTTYPE=image/jpeg:https://cottlevillage.com/wp-content/uploads/2025/08/Presley-Aaron.jpg
END:VEVENT
BEGIN:VEVENT
DTSTART;TZID=America/Chicago:20251128T190000
DTEND;TZID=America/Chicago:20251128T220000
DTSTAMP:20260422T093442
CREATED:20251031T004304Z
LAST-MODIFIED:20251031T004304Z
UID:546-1764356400-1764367200@cottlevillage.com
SUMMARY:Elise Newman - Live in the Distillery
DESCRIPTION:
URL:https://cottlevillage.com/event/elise-newman-live-in-the-distillery/
LOCATION:Cottlevillage\, 6470 State Rte N\, Cottleville\, MO\, 63304\, United States
CATEGORIES:The Distillery
ATTACH;FMTTYPE=image/jpeg:https://cottlevillage.com/wp-content/uploads/2025/10/Elise-Newman.jpeg
END:VEVENT
BEGIN:VEVENT
DTSTART;TZID=America/Chicago:20251126T200000
DTEND;TZID=America/Chicago:20251126T230000
DTSTAMP:20260422T093442
CREATED:20251106T222017Z
LAST-MODIFIED:20251106T222110Z
UID:551-1764187200-1764198000@cottlevillage.com
SUMMARY:Elise Newman - Live in The Distillery!
DESCRIPTION:
URL:https://cottlevillage.com/event/elise-newman-live-in-the-distillery-2/
LOCATION:Cottlevillage\, 6470 State Rte N\, Cottleville\, MO\, 63304\, United States
CATEGORIES:The Distillery
ATTACH;FMTTYPE=image/jpeg:https://cottlevillage.com/wp-content/uploads/2025/10/Elise-Newman.jpeg
END:VEVENT
BEGIN:VEVENT
DTSTART;TZID=America/Chicago:20251122T160000
DTEND;TZID=America/Chicago:20251122T200000
DTSTAMP:20260422T093442
CREATED:20251024T225935Z
LAST-MODIFIED:20251105T224057Z
UID:541-1763827200-1763841600@cottlevillage.com
SUMMARY:The Hey Days
DESCRIPTION:
URL:https://cottlevillage.com/event/the-hey-days/
LOCATION:Cottlevillage\, 6470 State Rte N\, Cottleville\, MO\, 63304\, United States
CATEGORIES:The Field
ATTACH;FMTTYPE=image/jpeg:https://cottlevillage.com/wp-content/uploads/2025/10/Hey-Days-.jpg
END:VEVENT
BEGIN:VEVENT
DTSTART;TZID=America/Chicago:20251122T110000
DTEND;TZID=America/Chicago:20251122T150000
DTSTAMP:20260422T093442
CREATED:20251118T043837Z
LAST-MODIFIED:20251118T043837Z
UID:554-1763809200-1763823600@cottlevillage.com
SUMMARY:Mizzou vs. Oklahoma Watch Party
DESCRIPTION:Join us Saturday\, November 22nd for the 11:00am kickoff of Mizzou vs. Oklahoma! We will have the game on every TV on the property including the big screen located on the stage WITH game sound! \n$5 ANY Beer. $6 Seltzers
URL:https://cottlevillage.com/event/mizzou-vs-oklahoma-watch-party/
LOCATION:Cottlevillage\, 6470 State Rte N\, Cottleville\, MO\, 63304\, United States
CATEGORIES:The Field
ATTACH;FMTTYPE=image/jpeg:https://cottlevillage.com/wp-content/uploads/2025/10/Vintage-LeapeaingTigerMizzou-1024x640-1.jpg
END:VEVENT
BEGIN:VEVENT
DTSTART;TZID=America/Chicago:20251115T183000
DTEND;TZID=America/Chicago:20251115T220000
DTSTAMP:20260422T093442
CREATED:20251105T224002Z
LAST-MODIFIED:20251105T224002Z
UID:550-1763231400-1763244000@cottlevillage.com
SUMMARY:Mizzou vs. Mississippi State Watch Party
DESCRIPTION:Join us Saturday\, November 15th for the 6:45pm kickoff of Mizzou vs. Mississippi State! We will have the game on every tv on the property including the big screen located on the stage WITH game sound! \n$5 Busch & Busch Light 16oz cans
URL:https://cottlevillage.com/event/mizzou-vs-mississippi-state-watch-party/
LOCATION:Cottlevillage\, 6470 State Rte N\, Cottleville\, MO\, 63304\, United States
CATEGORIES:The Field
ATTACH;FMTTYPE=image/jpeg:https://cottlevillage.com/wp-content/uploads/2025/10/Vintage-LeapeaingTigerMizzou-1024x640-1.jpg
END:VEVENT
BEGIN:VEVENT
DTSTART;TZID=America/Chicago:20251115T140000
DTEND;TZID=America/Chicago:20251115T180000
DTSTAMP:20260422T093442
CREATED:20251024T225527Z
LAST-MODIFIED:20251105T223821Z
UID:540-1763215200-1763229600@cottlevillage.com
SUMMARY:Presley Aaron Band
DESCRIPTION:
URL:https://cottlevillage.com/event/presley-aaron-band-2/
LOCATION:Cottlevillage\, 6470 State Rte N\, Cottleville\, MO\, 63304\, United States
CATEGORIES:The Field
ATTACH;FMTTYPE=image/jpeg:https://cottlevillage.com/wp-content/uploads/2025/08/Presley-Aaron.jpg
END:VEVENT
BEGIN:VEVENT
DTSTART;TZID=America/Chicago:20251114T180000
DTEND;TZID=America/Chicago:20251114T210000
DTSTAMP:20260422T093442
CREATED:20251024T225355Z
LAST-MODIFIED:20251024T225355Z
UID:539-1763143200-1763154000@cottlevillage.com
SUMMARY:Alex Rich Band
DESCRIPTION:
URL:https://cottlevillage.com/event/alex-rich-band/
LOCATION:Cottlevillage\, 6470 State Rte N\, Cottleville\, MO\, 63304\, United States
CATEGORIES:The Field
ATTACH;FMTTYPE=image/heic:https://cottlevillage.com/wp-content/uploads/2025/08/IMG_2009-scaled.jpg
END:VEVENT
END:VCALENDAR