BEGIN:VCALENDAR
VERSION:2.0
PRODID:-//Cottle Village - ECPv6.15.12.2//NONSGML v1.0//EN
CALSCALE:GREGORIAN
METHOD:PUBLISH
X-WR-CALNAME:Cottle Village
X-ORIGINAL-URL:https://cottlevillage.com
X-WR-CALDESC:Events for Cottle Village
REFRESH-INTERVAL;VALUE=DURATION:PT1H
X-Robots-Tag:noindex
X-PUBLISHED-TTL:PT1H
BEGIN:VTIMEZONE
TZID:America/Chicago
BEGIN:DAYLIGHT
TZOFFSETFROM:-0600
TZOFFSETTO:-0500
TZNAME:CDT
DTSTART:20250309T080000
END:DAYLIGHT
BEGIN:STANDARD
TZOFFSETFROM:-0500
TZOFFSETTO:-0600
TZNAME:CST
DTSTART:20251102T070000
END:STANDARD
BEGIN:DAYLIGHT
TZOFFSETFROM:-0600
TZOFFSETTO:-0500
TZNAME:CDT
DTSTART:20260308T080000
END:DAYLIGHT
BEGIN:STANDARD
TZOFFSETFROM:-0500
TZOFFSETTO:-0600
TZNAME:CST
DTSTART:20261101T070000
END:STANDARD
BEGIN:DAYLIGHT
TZOFFSETFROM:-0600
TZOFFSETTO:-0500
TZNAME:CDT
DTSTART:20270314T080000
END:DAYLIGHT
BEGIN:STANDARD
TZOFFSETFROM:-0500
TZOFFSETTO:-0600
TZNAME:CST
DTSTART:20271107T070000
END:STANDARD
END:VTIMEZONE
BEGIN:VEVENT
DTSTART;TZID=America/Chicago:20260416T170000
DTEND;TZID=America/Chicago:20260416T200000
DTSTAMP:20260424T085616
CREATED:20260403T202551Z
LAST-MODIFIED:20260403T202551Z
UID:619-1776358800-1776369600@cottlevillage.com
SUMMARY:Rich Houke
DESCRIPTION:
URL:https://cottlevillage.com/event/rich-houke-2/
LOCATION:Cottlevillage\, 6470 State Rte N\, Cottleville\, MO\, 63304\, United States
CATEGORIES:The Field
ATTACH;FMTTYPE=image/jpeg:https://cottlevillage.com/wp-content/uploads/2026/04/Rich-Houke.jpg
END:VEVENT
BEGIN:VEVENT
DTSTART;TZID=America/Chicago:20260417T180000
DTEND;TZID=America/Chicago:20260417T210000
DTSTAMP:20260424T085616
CREATED:20260325T222743Z
LAST-MODIFIED:20260415T232716Z
UID:594-1776448800-1776459600@cottlevillage.com
SUMMARY:The Pulse Band
DESCRIPTION:
URL:https://cottlevillage.com/event/the-pulse-band/
LOCATION:Cottlevillage\, 6470 State Rte N\, Cottleville\, MO\, 63304\, United States
CATEGORIES:The Field
ATTACH;FMTTYPE=image/jpeg:https://cottlevillage.com/wp-content/uploads/2026/03/Pulse.jpg
END:VEVENT
BEGIN:VEVENT
DTSTART;TZID=America/Chicago:20260418T170000
DTEND;TZID=America/Chicago:20260418T200000
DTSTAMP:20260424T085616
CREATED:20260325T222918Z
LAST-MODIFIED:20260415T234652Z
UID:596-1776531600-1776542400@cottlevillage.com
SUMMARY:The Brightside
DESCRIPTION:
URL:https://cottlevillage.com/event/the-brightside/
LOCATION:Cottlevillage\, 6470 State Rte N\, Cottleville\, MO\, 63304\, United States
CATEGORIES:The Field
ATTACH;FMTTYPE=image/png:https://cottlevillage.com/wp-content/uploads/2026/03/Brightside.png
END:VEVENT
BEGIN:VEVENT
DTSTART;TZID=America/Chicago:20260419T100000
DTEND;TZID=America/Chicago:20260419T110000
DTSTAMP:20260424T085616
CREATED:20260225T233313Z
LAST-MODIFIED:20260225T233313Z
UID:584-1776592800-1776596400@cottlevillage.com
SUMMARY:Serenity Sunday~ Yoga & Mimosas
DESCRIPTION:Relax and unwind with yoga at Cottle Village. Your ticket includes an all levels yoga session and complimentary mimosa or mocktail. \nKick back and relax with yoga followed by refreshing mimosas or mocktails at the cozy Cottle Village. Perfect way to start your Sunday off right. Bring your mat\, you vibe and get ready to unwind. Our yoga session will be held in The Distillery.
URL:https://cottlevillage.com/event/serenity-sunday-yoga-mimosas/
LOCATION:Cottlevillage\, 6470 State Rte N\, Cottleville\, MO\, 63304\, United States
CATEGORIES:The Distillery
ATTACH;FMTTYPE=image/jpeg:https://cottlevillage.com/wp-content/uploads/2026/02/8706370923436957229.jpg
END:VEVENT
BEGIN:VEVENT
DTSTART;TZID=America/Chicago:20260419T130000
DTEND;TZID=America/Chicago:20260419T160000
DTSTAMP:20260424T085616
CREATED:20260403T202730Z
LAST-MODIFIED:20260403T210421Z
UID:620-1776603600-1776614400@cottlevillage.com
SUMMARY:Joey Miner
DESCRIPTION:
URL:https://cottlevillage.com/event/joey-miner/
LOCATION:Cottlevillage\, 6470 State Rte N\, Cottleville\, MO\, 63304\, United States
CATEGORIES:The Field
ATTACH;FMTTYPE=image/jpeg:https://cottlevillage.com/wp-content/uploads/2026/04/Joey-Miner.jpg
END:VEVENT
BEGIN:VEVENT
DTSTART;TZID=America/Chicago:20260420T170000
DTEND;TZID=America/Chicago:20260420T200000
DTSTAMP:20260424T085616
CREATED:20260403T210925Z
LAST-MODIFIED:20260403T210925Z
UID:622-1776704400-1776715200@cottlevillage.com
SUMMARY:Andrew Weber
DESCRIPTION:
URL:https://cottlevillage.com/event/andrew-weber-3/
LOCATION:Cottlevillage\, 6470 State Rte N\, Cottleville\, MO\, 63304\, United States
CATEGORIES:The Field
ATTACH;FMTTYPE=image/webp:https://cottlevillage.com/wp-content/uploads/2026/04/Andrew-Weber-.webp
END:VEVENT
BEGIN:VEVENT
DTSTART;TZID=America/Chicago:20260421T170000
DTEND;TZID=America/Chicago:20260421T200000
DTSTAMP:20260424T085616
CREATED:20260403T211018Z
LAST-MODIFIED:20260403T211018Z
UID:623-1776790800-1776801600@cottlevillage.com
SUMMARY:Matt Colin & Anthony Nanney
DESCRIPTION:
URL:https://cottlevillage.com/event/matt-colin-anthony-nanney-3/
LOCATION:Cottlevillage\, 6470 State Rte N\, Cottleville\, MO\, 63304\, United States
CATEGORIES:The Field
END:VEVENT
BEGIN:VEVENT
DTSTART;TZID=America/Chicago:20260422T190000
DTEND;TZID=America/Chicago:20260422T210000
DTSTAMP:20260424T085616
CREATED:20260403T211218Z
LAST-MODIFIED:20260403T211218Z
UID:624-1776884400-1776891600@cottlevillage.com
SUMMARY:Live Music Bingo!
DESCRIPTION:
URL:https://cottlevillage.com/event/live-music-bingo/
LOCATION:Cottlevillage\, 6470 State Rte N\, Cottleville\, MO\, 63304\, United States
CATEGORIES:The Field
ATTACH;FMTTYPE=image/jpeg:https://cottlevillage.com/wp-content/uploads/2026/04/Music-Bingo.jpg
END:VEVENT
BEGIN:VEVENT
DTSTART;TZID=America/Chicago:20260423T170000
DTEND;TZID=America/Chicago:20260423T200000
DTSTAMP:20260424T085616
CREATED:20260403T211316Z
LAST-MODIFIED:20260403T211316Z
UID:626-1776963600-1776974400@cottlevillage.com
SUMMARY:James Jones
DESCRIPTION:
URL:https://cottlevillage.com/event/james-jones-3/
LOCATION:Cottlevillage\, 6470 State Rte N\, Cottleville\, MO\, 63304\, United States
CATEGORIES:The Field
ATTACH;FMTTYPE=image/webp:https://cottlevillage.com/wp-content/uploads/2026/04/James-Jones.webp
END:VEVENT
BEGIN:VEVENT
DTSTART;TZID=America/Chicago:20260424T190000
DTEND;TZID=America/Chicago:20260424T220000
DTSTAMP:20260424T085616
CREATED:20260325T223040Z
LAST-MODIFIED:20260325T223040Z
UID:598-1777057200-1777068000@cottlevillage.com
SUMMARY:Up All Night
DESCRIPTION:
URL:https://cottlevillage.com/event/up-all-night/
LOCATION:Cottlevillage\, 6470 State Rte N\, Cottleville\, MO\, 63304\, United States
CATEGORIES:The Field
ATTACH;FMTTYPE=image/jpeg:https://cottlevillage.com/wp-content/uploads/2026/03/Up-All-Night-.jpg
END:VEVENT
BEGIN:VEVENT
DTSTART;TZID=America/Chicago:20260425T130000
DTEND;TZID=America/Chicago:20260425T160000
DTSTAMP:20260424T085616
CREATED:20260424T034233Z
LAST-MODIFIED:20260424T034233Z
UID:661-1777122000-1777132800@cottlevillage.com
SUMMARY:Chad Steven Stafford
DESCRIPTION:
URL:https://cottlevillage.com/event/chad-steven-stafford/
LOCATION:Cottlevillage\, 6470 State Rte N\, Cottleville\, MO\, 63304\, United States
CATEGORIES:The Field
END:VEVENT
BEGIN:VEVENT
DTSTART;TZID=America/Chicago:20260425T190000
DTEND;TZID=America/Chicago:20260425T220000
DTSTAMP:20260424T085616
CREATED:20260325T224526Z
LAST-MODIFIED:20260325T224526Z
UID:600-1777143600-1777154400@cottlevillage.com
SUMMARY:Almost Famous
DESCRIPTION:
URL:https://cottlevillage.com/event/almost-famous/
LOCATION:Cottlevillage\, 6470 State Rte N\, Cottleville\, MO\, 63304\, United States
CATEGORIES:The Field
ATTACH;FMTTYPE=image/jpeg:https://cottlevillage.com/wp-content/uploads/2026/03/Almost-Famous.jpg
END:VEVENT
BEGIN:VEVENT
DTSTART;TZID=America/Chicago:20260426T100000
DTEND;TZID=America/Chicago:20260426T140000
DTSTAMP:20260424T085616
CREATED:20260408T190544Z
LAST-MODIFIED:20260408T190544Z
UID:632-1777197600-1777212000@cottlevillage.com
SUMMARY:Meet & Mahj
DESCRIPTION:Meet & Mahj (Mahjong Level 1)\n10:00am – 1:00pm \nWhat’s included:  \n\n– Brunch Buffet\n– All game essentials\n– Learning guides\n– Beginner & guided play lessons
URL:https://cottlevillage.com/event/meet-mahj/
LOCATION:Cottlevillage\, 6470 State Rte N\, Cottleville\, MO\, 63304\, United States
CATEGORIES:The Distillery
ATTACH;FMTTYPE=image/png:https://cottlevillage.com/wp-content/uploads/2026/04/MAHJONG-AT-COTTLE.png
END:VEVENT
BEGIN:VEVENT
DTSTART;TZID=America/Chicago:20260426T130000
DTEND;TZID=America/Chicago:20260426T160000
DTSTAMP:20260424T085616
CREATED:20260403T211436Z
LAST-MODIFIED:20260403T211436Z
UID:627-1777208400-1777219200@cottlevillage.com
SUMMARY:Joey Miner
DESCRIPTION:
URL:https://cottlevillage.com/event/joey-miner-2/
LOCATION:Cottlevillage\, 6470 State Rte N\, Cottleville\, MO\, 63304\, United States
CATEGORIES:The Field
ATTACH;FMTTYPE=image/jpeg:https://cottlevillage.com/wp-content/uploads/2026/04/Joey-Miner.jpg
END:VEVENT
BEGIN:VEVENT
DTSTART;TZID=America/Chicago:20260427T170000
DTEND;TZID=America/Chicago:20260427T200000
DTSTAMP:20260424T085616
CREATED:20260403T211713Z
LAST-MODIFIED:20260403T211713Z
UID:628-1777309200-1777320000@cottlevillage.com
SUMMARY:Madison Jackson
DESCRIPTION:
URL:https://cottlevillage.com/event/madison-jackson/
LOCATION:Cottlevillage\, 6470 State Rte N\, Cottleville\, MO\, 63304\, United States
CATEGORIES:The Field
END:VEVENT
BEGIN:VEVENT
DTSTART;TZID=America/Chicago:20260428T170000
DTEND;TZID=America/Chicago:20260428T200000
DTSTAMP:20260424T085616
CREATED:20260403T211808Z
LAST-MODIFIED:20260403T211808Z
UID:629-1777395600-1777406400@cottlevillage.com
SUMMARY:Matt Colin & Anthony Nanney
DESCRIPTION:
URL:https://cottlevillage.com/event/matt-colin-anthony-nanney-4/
LOCATION:Cottlevillage\, 6470 State Rte N\, Cottleville\, MO\, 63304\, United States
CATEGORIES:The Field
END:VEVENT
BEGIN:VEVENT
DTSTART;TZID=America/Chicago:20260429T170000
DTEND;TZID=America/Chicago:20260429T200000
DTSTAMP:20260424T085616
CREATED:20260403T211904Z
LAST-MODIFIED:20260403T211904Z
UID:630-1777482000-1777492800@cottlevillage.com
SUMMARY:Andrew Weber
DESCRIPTION:
URL:https://cottlevillage.com/event/andrew-weber-4/
LOCATION:Cottlevillage\, 6470 State Rte N\, Cottleville\, MO\, 63304\, United States
CATEGORIES:The Field
ATTACH;FMTTYPE=image/webp:https://cottlevillage.com/wp-content/uploads/2026/04/Andrew-Weber-.webp
END:VEVENT
BEGIN:VEVENT
DTSTART;TZID=America/Chicago:20260430T170000
DTEND;TZID=America/Chicago:20260430T200000
DTSTAMP:20260424T085616
CREATED:20260403T211957Z
LAST-MODIFIED:20260403T211957Z
UID:631-1777568400-1777579200@cottlevillage.com
SUMMARY:James Jones
DESCRIPTION:
URL:https://cottlevillage.com/event/james-jones-4/
LOCATION:Cottlevillage\, 6470 State Rte N\, Cottleville\, MO\, 63304\, United States
CATEGORIES:The Field
END:VEVENT
BEGIN:VEVENT
DTSTART;TZID=America/Chicago:20260501T190000
DTEND;TZID=America/Chicago:20260501T220000
DTSTAMP:20260424T085616
CREATED:20260422T222013Z
LAST-MODIFIED:20260422T222013Z
UID:639-1777662000-1777672800@cottlevillage.com
SUMMARY:Southern Lights
DESCRIPTION:
URL:https://cottlevillage.com/event/southern-lights-5/
LOCATION:Cottlevillage\, 6470 State Rte N\, Cottleville\, MO\, 63304\, United States
CATEGORIES:The Field
ATTACH;FMTTYPE=image/jpeg:https://cottlevillage.com/wp-content/uploads/2025/08/Southern-Lights-.jpg
END:VEVENT
BEGIN:VEVENT
DTSTART;TZID=America/Chicago:20260502T130000
DTEND;TZID=America/Chicago:20260502T160000
DTSTAMP:20260424T085616
CREATED:20260422T222109Z
LAST-MODIFIED:20260422T222109Z
UID:640-1777726800-1777737600@cottlevillage.com
SUMMARY:Paul Konya
DESCRIPTION:
URL:https://cottlevillage.com/event/paul-konya-7/
LOCATION:Cottlevillage\, 6470 State Rte N\, Cottleville\, MO\, 63304\, United States
CATEGORIES:The Field
ATTACH;FMTTYPE=image/jpeg:https://cottlevillage.com/wp-content/uploads/2025/09/Paul-Konya.jpg
END:VEVENT
BEGIN:VEVENT
DTSTART;TZID=America/Chicago:20260502T140000
DTEND;TZID=America/Chicago:20260502T180000
DTSTAMP:20260424T085616
CREATED:20260422T223838Z
LAST-MODIFIED:20260422T223838Z
UID:646-1777730400-1777744800@cottlevillage.com
SUMMARY:Jockeys & Juleps
DESCRIPTION:Jockeys & Juleps at Cottle Village\n\nJoin us for a Kentucky Derby Watch Party at The Field & Farmstead Distillery\, where we’re bringing the Southern Charm to Cottleville!\nGrab your crew\, throw on your best Derby fit\, and come experience an afternoon of racing\, cocktails\, and Juleps at Cottle Village.\n\nWhere: The Field & Farmstead DistilleryWhen: Saturday\, May 2nd | 2PM–6PM\n\nDress to impress!We’re awarding prizes at the conclusion of the race for:• Best Dressed (Men & Women)• Best Hat\n\nEnjoy Derby-inspired drink specials like:Mint Juleps • Kentucky Mules • Oaks Lilys & more!!
URL:https://cottlevillage.com/event/jockeys-juleps/
LOCATION:Cottlevillage\, 6470 State Rte N\, Cottleville\, MO\, 63304\, United States
CATEGORIES:The Distillery,The Field
ATTACH;FMTTYPE=image/jpeg:https://cottlevillage.com/wp-content/uploads/2026/04/Derby-.jpg
END:VEVENT
BEGIN:VEVENT
DTSTART;TZID=America/Chicago:20260502T190000
DTEND;TZID=America/Chicago:20260502T220000
DTSTAMP:20260424T085616
CREATED:20260422T222507Z
LAST-MODIFIED:20260422T222507Z
UID:641-1777748400-1777759200@cottlevillage.com
SUMMARY:Presley Aaron Band
DESCRIPTION:
URL:https://cottlevillage.com/event/presley-aaron-band-4/
LOCATION:Cottlevillage\, 6470 State Rte N\, Cottleville\, MO\, 63304\, United States
CATEGORIES:The Field
ATTACH;FMTTYPE=image/jpeg:https://cottlevillage.com/wp-content/uploads/2025/08/Presley-Aaron.jpg
END:VEVENT
BEGIN:VEVENT
DTSTART;TZID=America/Chicago:20260503T120000
DTEND;TZID=America/Chicago:20260503T150000
DTSTAMP:20260424T085616
CREATED:20260408T231505Z
LAST-MODIFIED:20260408T231505Z
UID:634-1777809600-1777820400@cottlevillage.com
SUMMARY:Mother's Day Mixology Class
DESCRIPTION:Celebrate Mother’s Day with a hands-on mixology experience designed for relaxation\, fun\, and a well-deserved treat. Enjoy three craft cocktails\, a brunch buffet\, a recipe book\, and a swag bag to take home—all for $85 per person. \nSunday\, May 3rd 12:00pm – 3:00pm \n**A copy of your e-mail receipt is the only “ticket” needed for the class**
URL:https://cottlevillage.com/event/mothers-day-mixology-class/
LOCATION:Cottlevillage\, 6470 State Rte N\, Cottleville\, MO\, 63304\, United States
CATEGORIES:The Tavern
END:VEVENT
BEGIN:VEVENT
DTSTART;TZID=America/Chicago:20260503T130000
DTEND;TZID=America/Chicago:20260503T160000
DTSTAMP:20260424T085616
CREATED:20260422T222623Z
LAST-MODIFIED:20260422T222623Z
UID:642-1777813200-1777824000@cottlevillage.com
SUMMARY:Presley Aaron - Solo
DESCRIPTION:
URL:https://cottlevillage.com/event/presley-aaron-solo/
LOCATION:Cottlevillage\, 6470 State Rte N\, Cottleville\, MO\, 63304\, United States
CATEGORIES:The Field
ATTACH;FMTTYPE=image/jpeg:https://cottlevillage.com/wp-content/uploads/2025/08/Presley-Aaron.jpg
END:VEVENT
BEGIN:VEVENT
DTSTART;TZID=America/Chicago:20260504T180000
DTEND;TZID=America/Chicago:20260504T210000
DTSTAMP:20260424T085616
CREATED:20260422T222925Z
LAST-MODIFIED:20260422T222925Z
UID:643-1777917600-1777928400@cottlevillage.com
SUMMARY:Andrew Weber
DESCRIPTION:
URL:https://cottlevillage.com/event/andrew-weber-5/
LOCATION:Cottlevillage\, 6470 State Rte N\, Cottleville\, MO\, 63304\, United States
CATEGORIES:The Field
ATTACH;FMTTYPE=image/webp:https://cottlevillage.com/wp-content/uploads/2026/04/Andrew-Weber-.webp
END:VEVENT
BEGIN:VEVENT
DTSTART;TZID=America/Chicago:20260505T140000
DTEND;TZID=America/Chicago:20260505T220000
DTSTAMP:20260424T085616
CREATED:20260422T223532Z
LAST-MODIFIED:20260422T223532Z
UID:644-1777989600-1778018400@cottlevillage.com
SUMMARY:Cinco de Mayo Celebration
DESCRIPTION:Cinco de Mayo Party at Cottle Village\n\nLooking for the best Cinco de Mayo celebration near St. Louis\, St. Charles\, and Cottleville\, Missouri? Join us at Cottle Village for an all-day fiesta packed with tacos\, margaritas\, live music\, and unbeatable drink specials!\n\n2PM – 10PM\n\nDrink Specials• $5 Margaritas (Frozen & Rocks)• $5 Domestic Beers (16oz)• $6 Corona & Modelo (16oz)• $5 Tequila Shots (Mixed + Straight)\n\nFood Specials• $4 Tacos (Pork Al Pastor\, Chicken Tinga\, Barbacoa)• $15 Nachos (choice of protein)• $4 Chips & Salsa• $6 Chips & Guacamole\n\nMatt Colin Duo 6pm – 9pm
URL:https://cottlevillage.com/event/cinco-de-mayo-celebration/
LOCATION:MO
ATTACH;FMTTYPE=image/jpeg:https://cottlevillage.com/wp-content/uploads/2026/04/Cinco.jpg
END:VEVENT
BEGIN:VEVENT
DTSTART;TZID=America/Chicago:20260506T180000
DTEND;TZID=America/Chicago:20260506T200000
DTSTAMP:20260424T085616
CREATED:20260423T222608Z
LAST-MODIFIED:20260423T222608Z
UID:650-1778090400-1778097600@cottlevillage.com
SUMMARY:Pre‑Mother's Day - Succulent Plant Arrangement Event
DESCRIPTION:Plant lovers\, this one’s calling your name!\n\n\nWe are excited for the collaboration with Cottle Village for a cozy\n\n\nWine Down Wednesday succulent‑making night providing a great “Art & Eat” event! The event will be held on May 6 from 6–7:30 PM at Cottle Village located in Cottleville\, MO!\n\n\nThis exciting event provides you with a class to design your very own centerpiece with 2–3 succulents\, your chosen planter\, and a great selection of embellishments—rocks\, sand\, crushed glass\, and more. All supplies included!\n\n\nChoose from a Mother’s Love Theme\, a Whimsical Theme\, or create your very own themed design! Guess what\, you don’t have to have a green thumb — we make it fun and easy providing you with a DIY instructor‑led class + after‑care instructions!\n\n\nPlease note: Seating is Bar (Pub) Height table & stools. (If you require regular table height accommodations\, please contact us directly at 636.669.8606. Thank you!)\n\n\nSpecial Pricing: Early Bird $44.95 through April 24 — $49.95 thereafter\n\n\nExtra Fun Add‑Ons: Make a mini 2″ glass bowl arrangement to gift for only $10 (add‑on at checkout)\n\n\nAnd don’t forget — enjoy fantastic food choices for purchase from Cottle Village’s delicious menu throughout the event!
URL:https://cottlevillage.com/event/pre-mothers-day-succulent-plant-arrangement-event/
LOCATION:Cottlevillage\, 6470 State Rte N\, Cottleville\, MO\, 63304\, United States
CATEGORIES:The Distillery
ATTACH;FMTTYPE=image/png:https://cottlevillage.com/wp-content/uploads/2026/04/Pre-Mothers-Day-Succulent-Plant-Arrangement-Event.png
END:VEVENT
BEGIN:VEVENT
DTSTART;TZID=America/Chicago:20260507T180000
DTEND;TZID=America/Chicago:20260507T210000
DTSTAMP:20260424T085616
CREATED:20260422T224437Z
LAST-MODIFIED:20260422T224437Z
UID:648-1778176800-1778187600@cottlevillage.com
SUMMARY:Paul Konya
DESCRIPTION:
URL:https://cottlevillage.com/event/paul-konya-8/
LOCATION:Cottlevillage\, 6470 State Rte N\, Cottleville\, MO\, 63304\, United States
CATEGORIES:The Field
ATTACH;FMTTYPE=image/jpeg:https://cottlevillage.com/wp-content/uploads/2025/09/Paul-Konya.jpg
END:VEVENT
BEGIN:VEVENT
DTSTART;TZID=America/Chicago:20260508T190000
DTEND;TZID=America/Chicago:20260508T220000
DTSTAMP:20260424T085616
CREATED:20260422T224702Z
LAST-MODIFIED:20260422T224702Z
UID:649-1778266800-1778277600@cottlevillage.com
SUMMARY:The Gusto
DESCRIPTION:
URL:https://cottlevillage.com/event/the-gusto-5/
LOCATION:Cottlevillage\, 6470 State Rte N\, Cottleville\, MO\, 63304\, United States
CATEGORIES:The Field
ATTACH;FMTTYPE=image/png:https://cottlevillage.com/wp-content/uploads/2025/08/IMG_5358.png
END:VEVENT
BEGIN:VEVENT
DTSTART;TZID=America/Chicago:20260509T120000
DTEND;TZID=America/Chicago:20260509T160000
DTSTAMP:20260424T085616
CREATED:20260423T223655Z
LAST-MODIFIED:20260423T223655Z
UID:653-1778328000-1778342400@cottlevillage.com
SUMMARY:Legends Undercover
DESCRIPTION:
URL:https://cottlevillage.com/event/legends-undercover-2/
LOCATION:Cottlevillage\, 6470 State Rte N\, Cottleville\, MO\, 63304\, United States
CATEGORIES:The Field
ATTACH;FMTTYPE=image/jpeg:https://cottlevillage.com/wp-content/uploads/2025/08/526294411_2139729483184606_5502607090860672704_n.jpg
END:VEVENT
END:VCALENDAR